BEGIN:VCALENDAR
VERSION:2.0
PRODID:-//不動産投資スーパーメンター奈辺卓美が主催する「奈辺塾」 - ECPv6.15.20//NONSGML v1.0//EN
CALSCALE:GREGORIAN
METHOD:PUBLISH
X-ORIGINAL-URL:https://nabetakumi.com
X-WR-CALDESC:不動産投資スーパーメンター奈辺卓美が主催する「奈辺塾」 のイベント
REFRESH-INTERVAL;VALUE=DURATION:PT1H
X-Robots-Tag:noindex
X-PUBLISHED-TTL:PT1H
BEGIN:VTIMEZONE
TZID:Asia/Tokyo
BEGIN:STANDARD
TZOFFSETFROM:+0900
TZOFFSETTO:+0900
TZNAME:JST
DTSTART:20250101T000000
END:STANDARD
END:VTIMEZONE
BEGIN:VEVENT
DTSTART;TZID=Asia/Tokyo:20260517T110000
DTEND;TZID=Asia/Tokyo:20260517T180000
DTSTAMP:20260420T165810
CREATED:20260416T021456Z
LAST-MODIFIED:20260416T022056Z
UID:28779-1779015600-1779040800@nabetakumi.com
SUMMARY:2026年5月大阪不動産買い付けツアー
DESCRIPTION:奈辺塾恒例の「大阪不動産買い付けツアー」を行います。\n今回のメインタイムは5/17（日）です。各自、飛行機のチケットやホテル等を予約してください。 \n●大まかなスケジュール\n5/16（土）16:00　下記「会場」に集合（※有志のみ）\n18:00　懇親会（前夜祭） \n5/17（日）11:00　下記「会場」に集合\n11:00　大阪の不動産会社アテンドによる視察スタート\n18:00　ツアー終了 \n  \n●宿泊場所について\n下記の「会場情報」に登録されているホテル、もしくは周辺のホテルにて宿泊してください。\n基本的には毎日「会場情報」記載のホテルのロビーにて集合する予定です。 \n  \n●参加フォーム\n下記フォームへ必要事項をご記入の上、送信ボタンを押してください。 \n\n\n  \n\n\n\n大阪不動産買付ツアー2026/5/17開催分\n \n お名前 (必須)\n \n \n メールアドレス (必須)\n \n \n お電話番号 (必須)\n \n \n 大阪到着日時 （例：7/17 10:00着 ANA便） \n\n \n 滞在ホテル名 （例：○○ホテルなど）\n\n \n 帰りの大阪出発日時 （例：7/19 21:20発 ANA便） \n\n \n ご意見ご希望などご自由にお書きください。\n \n \n\n Δ \n\n\n\n  \n●その他
URL:https://nabetakumi.com/event/osakatour-202605/
LOCATION:HARE天下茶屋\, 大阪市西成区潮路１丁目２−４\, 大阪府
CATEGORIES:大阪ツアー
ATTACH;FMTTYPE=image/jpeg:https://nabetakumi.com/wp-content/uploads/2024/11/people-walking-on-street-during-night-time-stockpack-unsplash.jpg
END:VEVENT
END:VCALENDAR